BEGIN:VCALENDAR
PRODID:-//AT Content Types//AT Event//EN
VERSION:2.0
METHOD:PUBLISH
BEGIN:VEVENT
DTSTAMP:20260423T231535Z
CREATED:20240318T085529Z
UID:ATEvent-971767fbbab94923915b4261c4ec21c5
LAST-MODIFIED:20240318T085541Z
SUMMARY:Ponencia Paz y Libertad en el Sáhara Occidental
DTSTART:20240318T160000Z
DTEND:20240318T170000Z
DESCRIPTION:Los miembros de la Ponencia Paz y Libertad en el Sáhara O
 ccidental se reúnen con la ministra de Cooperación de la República 
 Árabe Saharaui Democrática y con el delegado saharaui para España.
LOCATION:Parlamento de La Rioja (C/. Marqués de San Nicolás\, 111)
CLASS:PUBLIC
END:VEVENT
END:VCALENDAR
