BEGIN:VCALENDAR
PRODID:-//AT Content Types//AT Event//EN
VERSION:2.0
METHOD:PUBLISH
BEGIN:VEVENT
DTSTAMP:20260424T232538Z
CREATED:20260424T115102Z
UID:ATEvent-0e5e02bb68ec492c8ad44501fc71e597
LAST-MODIFIED:20260424T115109Z
SUMMARY:Pintado de las Doncellas en Santo Domingo de las Calzadas
DTSTART:20260425T140000Z
DTEND:20260425T143000Z
DESCRIPTION:La presidenta del Parlamento de La Rioja\, Marta Fernánde
 z Cornago\, participa en el acto de Pintado de las Doncellas\, en el m
 arco del acto de ‘El 25 de abril sale la Gaita y con el Tamboril’\
 , que organiza la Cofradía del Santo y marca el inicio oficioso de la
 s fiestas patronales.
LOCATION:Casa de la Cofradía del Santo (Santo Domingo de la Calzada).
CLASS:PUBLIC
END:VEVENT
END:VCALENDAR
