BEGIN:VCALENDAR
PRODID:-//AT Content Types//AT Event//EN
VERSION:1.0
BEGIN:VEVENT
DTSTART:20230717T073000Z
DTEND:20230717T084000Z
DCREATED:20230714T114645Z
UID:ATEvent-0bf3b1ec242e4c36b637d8d0c8cd3262
SEQUENCE:0
LAST-MODIFIED:20230714T114713Z
SUMMARY:Mesa redonda previa a la Reunión Informal de Ministros de Interior y Justicia de toda Europa (RIM)
DESCRIPTION:La presidenta del Parlamento de La Rioja\, Marta Fernánde
 z Cornago\, asiste a la mesa redonda sobre 'Cómo afectan las decision
 es europeas en materia de Justicia a los ciudadanos'\, programada con 
 motivo de la Reunión Informal de Ministros de Interior y Justicia de 
 toda Europa (RIM)\, que se va a celebrar los días 20 y 21 de julio en
  Logroño.
LOCATION:Tribunal Superior de Justicia de La Rioja (C/. Marqués de Murrieta\, 45-47)
PRIORITY:3
TRANSP:0
END:VEVENT
END:VCALENDAR
