BEGIN:VCALENDAR
PRODID:-//AT Content Types//AT Event//EN
VERSION:2.0
METHOD:PUBLISH
BEGIN:VEVENT
DTSTAMP:20260424T232701Z
CREATED:20260424T115749Z
UID:ATEvent-5902650c83d44be3a19c7fe9e66d8152
LAST-MODIFIED:20260424T115755Z
SUMMARY:Gala de Diario La Rioja '45MIL veces La Rioja y lo que viene'
DTSTART:20260422T173000Z
DTEND:20260422T190000Z
DESCRIPTION:La presidenta del Parlamento de La Rioja asiste a la gala 
 '45MIL veces La Rioja y lo que viene'\, organizada por Diario La Rioja
 .
LOCATION:Auditorio del Ayuntamiento de Logroño
CLASS:PUBLIC
END:VEVENT
END:VCALENDAR
