BEGIN:VCALENDAR
PRODID:-//AT Content Types//AT Event//EN
VERSION:2.0
METHOD:PUBLISH
BEGIN:VEVENT
DTSTAMP:20260421T214906Z
CREATED:20260119T160651Z
UID:ATEvent-b32547613aa940fe8aaacd1fb28cdfc4
LAST-MODIFIED:20260119T160700Z
SUMMARY:Fernández Cornago participa en la sesión del Plenario de la COPREPA
DTSTART:20260120T093000Z
DTEND:20260120T160500Z
DESCRIPTION:La presidenta del Parlamento de La Rioja\, Marta Fernánde
 z Cornago\, participa en la sesión del Plenario de la Conferencia de 
 Presidencias de Parlamentos Autonómicos (COPREPA).
LOCATION:Universidad de Alcalá de Henares
CLASS:PUBLIC
END:VEVENT
END:VCALENDAR
